BEGIN:VCALENDAR
VERSION:2.0
PRODID:-//Agencia de Recaudación Fueguina - ECPv6.15.13//NONSGML v1.0//EN
CALSCALE:GREGORIAN
METHOD:PUBLISH
X-ORIGINAL-URL:https://www.aref.gob.ar
X-WR-CALDESC:Eventos para Agencia de Recaudación Fueguina
REFRESH-INTERVAL;VALUE=DURATION:PT1H
X-Robots-Tag:noindex
X-PUBLISHED-TTL:PT1H
BEGIN:VTIMEZONE
TZID:UTC
BEGIN:STANDARD
TZOFFSETFROM:+0000
TZOFFSETTO:+0000
TZNAME:UTC
DTSTART:20250101T000000
END:STANDARD
END:VTIMEZONE
BEGIN:VEVENT
DTSTART;VALUE=DATE:20260407
DTEND;VALUE=DATE:20260408
DTSTAMP:20260425T025038
CREATED:20260409T131030Z
LAST-MODIFIED:20260409T131109Z
UID:9516-1775520000-1775606399@www.aref.gob.ar
SUMMARY:Tasa de Verificación de Procesos Productivos (Formulario NT-500 (v.2024) ) DDJJ mensual Marzo PRESENTACION Y PAGO
DESCRIPTION:
URL:https://www.aref.gob.ar/calendario/tasa-de-verificacion-de-procesos-productivos-formulario-nt-500-v-2024-ddjj-mensual-marzo-presentacion-y-pago/
CATEGORIES:Tasa De Verificación de Procesos Productivos
END:VEVENT
END:VCALENDAR