BEGIN:VCALENDAR
VERSION:2.0
PRODID:-//Agencia de Recaudación Fueguina - ECPv6.15.13//NONSGML v1.0//EN
CALSCALE:GREGORIAN
METHOD:PUBLISH
X-ORIGINAL-URL:https://www.aref.gob.ar
X-WR-CALDESC:Eventos para Agencia de Recaudación Fueguina
REFRESH-INTERVAL;VALUE=DURATION:PT1H
X-Robots-Tag:noindex
X-PUBLISHED-TTL:PT1H
BEGIN:VTIMEZONE
TZID:UTC
BEGIN:STANDARD
TZOFFSETFROM:+0000
TZOFFSETTO:+0000
TZNAME:UTC
DTSTART:20250101T000000
END:STANDARD
END:VTIMEZONE
BEGIN:VEVENT
DTSTART;VALUE=DATE:20260409
DTEND;VALUE=DATE:20260410
DTSTAMP:20260425T025112
CREATED:20260409T135028Z
LAST-MODIFIED:20260409T135028Z
UID:9519-1775692800-1775779199@www.aref.gob.ar
SUMMARY:Impuesto de Sellos – Agentes de Recaudación – PRESENTACIÓN/PAGO DDJJ (101-210-220-230-250) DDJJ mensual Marzo
DESCRIPTION:
URL:https://www.aref.gob.ar/calendario/impuesto-de-sellos-agentes-de-recaudacion-presentacion-pago-ddjj-101-210-220-230-250-ddjj-mensual-marzo/
CATEGORIES:Agentes de Recaudación - Impuesto de Sellos
END:VEVENT
BEGIN:VEVENT
DTSTART;VALUE=DATE:20260409
DTEND;VALUE=DATE:20260410
DTSTAMP:20260425T025112
CREATED:20260409T140047Z
LAST-MODIFIED:20260409T140047Z
UID:9521-1775692800-1775779199@www.aref.gob.ar
SUMMARY:IIBB/FFSS/FOFISP – Agentes de Retención – PRESENTACIÓN/PAGO DDJJ R-202 DDJJ mensual Marzo
DESCRIPTION:
URL:https://www.aref.gob.ar/calendario/iibb-ffss-fofisp-agentes-de-retencion-presentacion-pago-ddjj-r-202-ddjj-mensual-marzo/
CATEGORIES:Agentes de Recaudación – Impuesto sobre los Ingresos Brutos
END:VEVENT
BEGIN:VEVENT
DTSTART;VALUE=DATE:20260409
DTEND;VALUE=DATE:20260410
DTSTAMP:20260425T025112
CREATED:20260409T141208Z
LAST-MODIFIED:20260409T141208Z
UID:9525-1775692800-1775779199@www.aref.gob.ar
SUMMARY:SIRCAR - Agentes de Recaudación VENCIMIENTO 2da QUINCENA Y MENSUAL Marzo DV CUIT 0 al 4
DESCRIPTION:
URL:https://www.aref.gob.ar/calendario/sircar-agentes-de-recaudacion-vencimiento-2da-quincena-y-mensual-marzo-dv-cuit-0-al-4/
CATEGORIES:Sircreb - Sircar - Sirtac
END:VEVENT
END:VCALENDAR