BEGIN:VCALENDAR
VERSION:2.0
PRODID:-//Agencia de Recaudación Fueguina - ECPv6.15.13//NONSGML v1.0//EN
CALSCALE:GREGORIAN
METHOD:PUBLISH
X-ORIGINAL-URL:https://www.aref.gob.ar
X-WR-CALDESC:Eventos para Agencia de Recaudación Fueguina
REFRESH-INTERVAL;VALUE=DURATION:PT1H
X-Robots-Tag:noindex
X-PUBLISHED-TTL:PT1H
BEGIN:VTIMEZONE
TZID:UTC
BEGIN:STANDARD
TZOFFSETFROM:+0000
TZOFFSETTO:+0000
TZNAME:UTC
DTSTART:20200101T000000
END:STANDARD
END:VTIMEZONE
BEGIN:VEVENT
DTSTART;VALUE=DATE:20211020
DTEND;VALUE=DATE:20211021
DTSTAMP:20260423T135608
CREATED:20211015T032645Z
LAST-MODIFIED:20211015T032645Z
UID:3411-1634688000-1634774399@www.aref.gob.ar
SUMMARY:Anticipo septiembre vencimiento Ingresos Brutos Locales dígitos 0\, 1\, 2\, 3\, 4 y 5
DESCRIPTION:Anticipo septiembre vencimiento Ingresos Brutos Locales dígitos 0\, 1\, 2\, 3\, 4 y 5
URL:https://www.aref.gob.ar/calendario/anticipo-septiembre-vencimiento-ingresos-brutos-locales-digitos-0-1-2-3-4-y-5/
CATEGORIES:Ingresos Brutos Locales
END:VEVENT
BEGIN:VEVENT
DTSTART;VALUE=DATE:20211021
DTEND;VALUE=DATE:20211022
DTSTAMP:20260423T135608
CREATED:20211015T033107Z
LAST-MODIFIED:20211015T033107Z
UID:3419-1634774400-1634860799@www.aref.gob.ar
SUMMARY:Anticipo septiembre vencimiento Ingresos Brutos Locales dígitos 6\, 7\,8\, 9 y A
DESCRIPTION:Anticipo septiembre vencimiento Ingresos Brutos Locales dígitos 6\, 7\,8\, 9 y A
URL:https://www.aref.gob.ar/calendario/anticipo-septiembre-vencimiento-ingresos-brutos-locales-digitos-6-78-9-y-a/
CATEGORIES:Ingresos Brutos Locales
END:VEVENT
END:VCALENDAR