BEGIN:VCALENDAR
VERSION:2.0
PRODID:-//Agencia de Recaudación Fueguina - ECPv6.15.13//NONSGML v1.0//EN
CALSCALE:GREGORIAN
METHOD:PUBLISH
X-WR-CALNAME:Agencia de Recaudación Fueguina
X-ORIGINAL-URL:https://www.aref.gob.ar
X-WR-CALDESC:Eventos para Agencia de Recaudación Fueguina
REFRESH-INTERVAL;VALUE=DURATION:PT1H
X-Robots-Tag:noindex
X-PUBLISHED-TTL:PT1H
BEGIN:VTIMEZONE
TZID:UTC
BEGIN:STANDARD
TZOFFSETFROM:+0000
TZOFFSETTO:+0000
TZNAME:UTC
DTSTART:20250101T000000
END:STANDARD
END:VTIMEZONE
BEGIN:VEVENT
DTSTART;VALUE=DATE:20260515
DTEND;VALUE=DATE:20260516
DTSTAMP:20260425T152251
CREATED:20260410T165400Z
LAST-MODIFIED:20260410T165400Z
UID:9569-1778803200-1778889599@www.aref.gob.ar
SUMMARY:IIBB CM SIFERE- Anticipo Abril vencimiento Dígito Verificador CUIT 0 a 2
DESCRIPTION:
URL:https://www.aref.gob.ar/calendario/iibb-cm-sifere-anticipo-abril-vencimiento-digito-verificador-cuit-0-a-2/
CATEGORIES:Convenio Multilateral
END:VEVENT
BEGIN:VEVENT
DTSTART;VALUE=DATE:20260515
DTEND;VALUE=DATE:20260516
DTSTAMP:20260425T152251
CREATED:20260410T170029Z
LAST-MODIFIED:20260410T170029Z
UID:9579-1778803200-1778889599@www.aref.gob.ar
SUMMARY:SIRCREB/SIRCUPA Agentes de Recaudación - VENCIMIENTO PRESENTACION y PAGO  DDJJ 1ra DECENA Mayo
DESCRIPTION:
URL:https://www.aref.gob.ar/calendario/sircreb-sircupa-agentes-de-recaudacion-vencimiento-presentacion-y-pago-ddjj-1ra-decena-mayo/
CATEGORIES:Sircreb - Sircar - Sirtac
END:VEVENT
BEGIN:VEVENT
DTSTART;VALUE=DATE:20260518
DTEND;VALUE=DATE:20260519
DTSTAMP:20260425T152251
CREATED:20260410T165458Z
LAST-MODIFIED:20260410T165458Z
UID:9571-1779062400-1779148799@www.aref.gob.ar
SUMMARY:IIBB CM SIFERE- Anticipo Abril vencimiento Dígito Verificador CUIT 3 a 5
DESCRIPTION:
URL:https://www.aref.gob.ar/calendario/iibb-cm-sifere-anticipo-abril-vencimiento-digito-verificador-cuit-3-a-5/
CATEGORIES:Convenio Multilateral
END:VEVENT
BEGIN:VEVENT
DTSTART;VALUE=DATE:20260519
DTEND;VALUE=DATE:20260520
DTSTAMP:20260425T152251
CREATED:20260410T165606Z
LAST-MODIFIED:20260410T165606Z
UID:9573-1779148800-1779235199@www.aref.gob.ar
SUMMARY:IIBB CM SIFERE -Anticipo Abril vencimiento Dígito Verificador CUIT 6 a 7
DESCRIPTION:
URL:https://www.aref.gob.ar/calendario/iibb-cm-sifere-anticipo-abril-vencimiento-digito-verificador-cuit-6-a-7/
CATEGORIES:Convenio Multilateral
END:VEVENT
BEGIN:VEVENT
DTSTART;VALUE=DATE:20260520
DTEND;VALUE=DATE:20260521
DTSTAMP:20260425T152251
CREATED:20260410T165658Z
LAST-MODIFIED:20260410T165658Z
UID:9575-1779235200-1779321599@www.aref.gob.ar
SUMMARY:IIBB CM SIFERE - Anticipo Abril vencimiento Dígito Verificador CUIT 8 a 9
DESCRIPTION:
URL:https://www.aref.gob.ar/calendario/iibb-cm-sifere-anticipo-abril-vencimiento-digito-verificador-cuit-8-a-9/
CATEGORIES:Convenio Multilateral
END:VEVENT
BEGIN:VEVENT
DTSTART;VALUE=DATE:20260520
DTEND;VALUE=DATE:20260521
DTSTAMP:20260425T152251
CREATED:20260410T165810Z
LAST-MODIFIED:20260410T165810Z
UID:9577-1779235200-1779321599@www.aref.gob.ar
SUMMARY:Monotributo Unificado -  Mayo Régimen Simplificado del Impuesto sobre los Ingresos Brutos
DESCRIPTION:
URL:https://www.aref.gob.ar/calendario/monotributo-unificado-mayo-regimen-simplificado-del-impuesto-sobre-los-ingresos-brutos/
CATEGORIES:Régimen Simplificado IIBB
END:VEVENT
BEGIN:VEVENT
DTSTART;VALUE=DATE:20260520
DTEND;VALUE=DATE:20260521
DTSTAMP:20260425T152251
CREATED:20260410T170923Z
LAST-MODIFIED:20260410T171043Z
UID:9587-1779235200-1779321599@www.aref.gob.ar
SUMMARY:Ingresos Brutos Locales Anticipo Abril vencimiento dígitos 0\, 1\, 2\, 3\, 4 y 5
DESCRIPTION:
URL:https://www.aref.gob.ar/calendario/ingresos-brutos-locales-anticipo-abril-vencimiento-digitos-0-1-2-3-4-y-5-2/
CATEGORIES:Ingresos Brutos Locales
END:VEVENT
BEGIN:VEVENT
DTSTART;VALUE=DATE:20260521
DTEND;VALUE=DATE:20260522
DTSTAMP:20260425T152251
CREATED:20260410T171223Z
LAST-MODIFIED:20260410T171223Z
UID:9589-1779321600-1779407999@www.aref.gob.ar
SUMMARY:Ingresos Brutos Locales Anticipo Abril vencimiento dígitos 6\, 7\,8\, 9 y A
DESCRIPTION:
URL:https://www.aref.gob.ar/calendario/ingresos-brutos-locales-anticipo-abril-vencimiento-digitos-6-78-9-y-a/
CATEGORIES:Ingresos Brutos Locales
END:VEVENT
BEGIN:VEVENT
DTSTART;VALUE=DATE:20260522
DTEND;VALUE=DATE:20260523
DTSTAMP:20260425T152251
CREATED:20260410T170231Z
LAST-MODIFIED:20260410T170231Z
UID:9581-1779408000-1779494399@www.aref.gob.ar
SUMMARY:SIRTAC Agentes de Recaudación - VENCIMIENTO PRESENTACIÓN y PAGO  DDJJ 1ra QUINCENA Mayo
DESCRIPTION:
URL:https://www.aref.gob.ar/calendario/sirtac-agentes-de-recaudacion-vencimiento-presentacion-y-pago-ddjj-1ra-quincena-mayo/
CATEGORIES:Sircreb - Sircar - Sirtac
END:VEVENT
BEGIN:VEVENT
DTSTART;VALUE=DATE:20260528
DTEND;VALUE=DATE:20260529
DTSTAMP:20260425T152251
CREATED:20260410T170414Z
LAST-MODIFIED:20260410T170414Z
UID:9583-1779926400-1780012799@www.aref.gob.ar
SUMMARY:SIRCREB/SIRCUPA Agentes de Recaudación - VENCIMIENTO PRESENTACION y PAGO DDJJ 2da DECENA Mayo
DESCRIPTION:
URL:https://www.aref.gob.ar/calendario/sircreb-sircupa-agentes-de-recaudacion-vencimiento-presentacion-y-pago-ddjj-2da-decena-mayo/
CATEGORIES:Sircreb - Sircar - Sirtac
END:VEVENT
BEGIN:VEVENT
DTSTART;VALUE=DATE:20260605
DTEND;VALUE=DATE:20260606
DTSTAMP:20260425T152251
CREATED:20260414T172738Z
LAST-MODIFIED:20260414T172738Z
UID:9591-1780617600-1780703999@www.aref.gob.ar
SUMMARY:Tasa de Verificación de Procesos Productivos (Formulario NT-500 (v.2024) ) DDJJ mensual Mayo PRESENTACION Y PAGO
DESCRIPTION:
URL:https://www.aref.gob.ar/calendario/tasa-de-verificacion-de-procesos-productivos-formulario-nt-500-v-2024-ddjj-mensual-mayo-presentacion-y-pago/
CATEGORIES:Tasa De Verificación de Procesos Productivos
END:VEVENT
BEGIN:VEVENT
DTSTART;VALUE=DATE:20260605
DTEND;VALUE=DATE:20260606
DTSTAMP:20260425T152251
CREATED:20260414T172858Z
LAST-MODIFIED:20260414T172858Z
UID:9593-1780617600-1780703999@www.aref.gob.ar
SUMMARY:Impuesto de Sellos – Agentes de Recaudación – PRESENTACIÓN/PAGO DDJJ (101-210-220-230-250) DDJJ mensual Mayo
DESCRIPTION:
URL:https://www.aref.gob.ar/calendario/impuesto-de-sellos-agentes-de-recaudacion-presentacion-pago-ddjj-101-210-220-230-250-ddjj-mensual-mayo/
CATEGORIES:Agentes de Recaudación - Impuesto de Sellos
END:VEVENT
BEGIN:VEVENT
DTSTART;VALUE=DATE:20260605
DTEND;VALUE=DATE:20260606
DTSTAMP:20260425T152251
CREATED:20260414T173002Z
LAST-MODIFIED:20260414T173002Z
UID:9595-1780617600-1780703999@www.aref.gob.ar
SUMMARY:IIBB/FFSS/FOFISP – Agentes de Retención –PRESENTACIÓN/PAGO DDJJ R-202 DDJJ mensual Mayo
DESCRIPTION:
URL:https://www.aref.gob.ar/calendario/iibb-ffss-fofisp-agentes-de-retencion-presentacion-pago-ddjj-r-202-ddjj-mensual-mayo/
CATEGORIES:Agentes de Recaudación – Impuesto sobre los Ingresos Brutos
END:VEVENT
BEGIN:VEVENT
DTSTART;VALUE=DATE:20260605
DTEND;VALUE=DATE:20260606
DTSTAMP:20260425T152251
CREATED:20260414T173218Z
LAST-MODIFIED:20260414T173218Z
UID:9598-1780617600-1780703999@www.aref.gob.ar
SUMMARY:SIRCREB/SIRCUPA -  VENCIMIENTO PRESENTACIÓN Y PAGO DDJJ 3ra DECENA Mayo
DESCRIPTION:
URL:https://www.aref.gob.ar/calendario/sircreb-sircupa-vencimiento-presentacion-y-pago-ddjj-3ra-decena-mayo/
CATEGORIES:Sircreb - Sircar - Sirtac
END:VEVENT
BEGIN:VEVENT
DTSTART;VALUE=DATE:20260605
DTEND;VALUE=DATE:20260606
DTSTAMP:20260425T152251
CREATED:20260414T173332Z
LAST-MODIFIED:20260414T173332Z
UID:9600-1780617600-1780703999@www.aref.gob.ar
SUMMARY:SIRCAR - Agentes de Recaudación VENCIMIENTO 2da QUINCENA Y MENSUAL Mayo DV CUIT 0 al 4
DESCRIPTION:
URL:https://www.aref.gob.ar/calendario/sircar-agentes-de-recaudacion-vencimiento-2da-quincena-y-mensual-mayo-dv-cuit-0-al-4/
CATEGORIES:Sircreb - Sircar - Sirtac
END:VEVENT
BEGIN:VEVENT
DTSTART;VALUE=DATE:20260605
DTEND;VALUE=DATE:20260606
DTSTAMP:20260425T152251
CREATED:20260414T173531Z
LAST-MODIFIED:20260414T173531Z
UID:9604-1780617600-1780703999@www.aref.gob.ar
SUMMARY:SIRTAC - Agentes de Recaudación VENCIMIENTO PRESENTACION Y PAGO DDJJ 2da QUINCENA Mayo
DESCRIPTION:
URL:https://www.aref.gob.ar/calendario/sirtac-agentes-de-recaudacion-vencimiento-presentacion-y-pago-ddjj-2da-quincena-mayo/
CATEGORIES:Sircreb - Sircar - Sirtac
END:VEVENT
BEGIN:VEVENT
DTSTART;VALUE=DATE:20260608
DTEND;VALUE=DATE:20260609
DTSTAMP:20260425T152251
CREATED:20260414T173427Z
LAST-MODIFIED:20260414T173427Z
UID:9602-1780876800-1780963199@www.aref.gob.ar
SUMMARY:SIRCAR - Agentes de Recaudación VENCIMIENTO 2da QUINCENA Y MENSUAL Mayo DV CUIT 5 al 9
DESCRIPTION:
URL:https://www.aref.gob.ar/calendario/sircar-agentes-de-recaudacion-vencimiento-2da-quincena-y-mensual-mayo-dv-cuit-5-al-9/
CATEGORIES:Sircreb - Sircar - Sirtac
END:VEVENT
BEGIN:VEVENT
DTSTART;VALUE=DATE:20260616
DTEND;VALUE=DATE:20260617
DTSTAMP:20260425T152251
CREATED:20260414T173656Z
LAST-MODIFIED:20260414T173656Z
UID:9606-1781568000-1781654399@www.aref.gob.ar
SUMMARY:IIBB CM SIFERE- Anticipo Mayo vencimiento Dígito Verificador CUIT 0 a 2
DESCRIPTION:
URL:https://www.aref.gob.ar/calendario/iibb-cm-sifere-anticipo-mayo-vencimiento-digito-verificador-cuit-0-a-2/
CATEGORIES:Convenio Multilateral
END:VEVENT
BEGIN:VEVENT
DTSTART;VALUE=DATE:20260617
DTEND;VALUE=DATE:20260618
DTSTAMP:20260425T152251
CREATED:20260414T173829Z
LAST-MODIFIED:20260414T173829Z
UID:9608-1781654400-1781740799@www.aref.gob.ar
SUMMARY:IIBB CM SIFERE- Anticipo Mayo vencimiento Dígito Verificador CUIT 3 a 5
DESCRIPTION:
URL:https://www.aref.gob.ar/calendario/iibb-cm-sifere-anticipo-mayo-vencimiento-digito-verificador-cuit-3-a-5/
CATEGORIES:Convenio Multilateral
END:VEVENT
BEGIN:VEVENT
DTSTART;VALUE=DATE:20260618
DTEND;VALUE=DATE:20260619
DTSTAMP:20260425T152251
CREATED:20260414T173923Z
LAST-MODIFIED:20260414T173923Z
UID:9610-1781740800-1781827199@www.aref.gob.ar
SUMMARY:IIBB CM SIFERE -Anticipo Mayo vencimiento Dígito Verificador CUIT 6 a 7
DESCRIPTION:
URL:https://www.aref.gob.ar/calendario/iibb-cm-sifere-anticipo-mayo-vencimiento-digito-verificador-cuit-6-a-7/
CATEGORIES:Convenio Multilateral
END:VEVENT
BEGIN:VEVENT
DTSTART;VALUE=DATE:20260619
DTEND;VALUE=DATE:20260620
DTSTAMP:20260425T152251
CREATED:20260414T174021Z
LAST-MODIFIED:20260414T174021Z
UID:9612-1781827200-1781913599@www.aref.gob.ar
SUMMARY:IIBB CM SIFERE - Anticipo Mayo vencimiento Dígito Verificador CUIT 8 a 9
DESCRIPTION:
URL:https://www.aref.gob.ar/calendario/iibb-cm-sifere-anticipo-mayo-vencimiento-digito-verificador-cuit-8-a-9/
CATEGORIES:Convenio Multilateral
END:VEVENT
BEGIN:VEVENT
DTSTART;VALUE=DATE:20260619
DTEND;VALUE=DATE:20260620
DTSTAMP:20260425T152251
CREATED:20260414T174129Z
LAST-MODIFIED:20260414T174129Z
UID:9614-1781827200-1781913599@www.aref.gob.ar
SUMMARY:Ingresos Brutos Locales Anticipo Mayo vencimiento dígitos 0\, 1\, 2\, 3\, 4 y 5
DESCRIPTION:
URL:https://www.aref.gob.ar/calendario/ingresos-brutos-locales-anticipo-mayo-vencimiento-digitos-0-1-2-3-4-y-5/
CATEGORIES:Ingresos Brutos Locales
END:VEVENT
BEGIN:VEVENT
DTSTART;VALUE=DATE:20260619
DTEND;VALUE=DATE:20260620
DTSTAMP:20260425T152251
CREATED:20260414T174538Z
LAST-MODIFIED:20260414T174538Z
UID:9620-1781827200-1781913599@www.aref.gob.ar
SUMMARY:SIRCREB/SIRCUPA Agentes de Recaudación - VENCIMIENTO PRESENTACION y PAGO  DDJJ 1ra DECENA Junio
DESCRIPTION:
URL:https://www.aref.gob.ar/calendario/sircreb-sircupa-agentes-de-recaudacion-vencimiento-presentacion-y-pago-ddjj-1ra-decena-junio/
CATEGORIES:Sircreb - Sircar - Sirtac
END:VEVENT
BEGIN:VEVENT
DTSTART;VALUE=DATE:20260622
DTEND;VALUE=DATE:20260623
DTSTAMP:20260425T152251
CREATED:20260414T174222Z
LAST-MODIFIED:20260414T174222Z
UID:9616-1782086400-1782172799@www.aref.gob.ar
SUMMARY:Ingresos Brutos Locales Anticipo Mayo vencimiento dígitos 6\, 7\,8\, 9 y A
DESCRIPTION:
URL:https://www.aref.gob.ar/calendario/ingresos-brutos-locales-anticipo-mayo-vencimiento-digitos-6-78-9-y-a/
CATEGORIES:Ingresos Brutos Locales
END:VEVENT
BEGIN:VEVENT
DTSTART;VALUE=DATE:20260622
DTEND;VALUE=DATE:20260623
DTSTAMP:20260425T152251
CREATED:20260414T174409Z
LAST-MODIFIED:20260414T174409Z
UID:9618-1782086400-1782172799@www.aref.gob.ar
SUMMARY:Monotributo Unificado -  Junio Régimen Simplificado del Impuesto sobre los Ingresos Brutos
DESCRIPTION:
URL:https://www.aref.gob.ar/calendario/monotributo-unificado-junio-regimen-simplificado-del-impuesto-sobre-los-ingresos-brutos/
CATEGORIES:Régimen Simplificado IIBB
END:VEVENT
BEGIN:VEVENT
DTSTART;VALUE=DATE:20260626
DTEND;VALUE=DATE:20260627
DTSTAMP:20260425T152251
CREATED:20260414T174628Z
LAST-MODIFIED:20260414T174628Z
UID:9622-1782432000-1782518399@www.aref.gob.ar
SUMMARY:SIRTAC Agentes de Recaudación - VENCIMIENTO PRESENTACIÓN y PAGO  DDJJ 1ra QUINCENA Junio
DESCRIPTION:
URL:https://www.aref.gob.ar/calendario/sirtac-agentes-de-recaudacion-vencimiento-presentacion-y-pago-ddjj-1ra-quincena-junio/
CATEGORIES:Sircreb - Sircar - Sirtac
END:VEVENT
BEGIN:VEVENT
DTSTART;VALUE=DATE:20260626
DTEND;VALUE=DATE:20260627
DTSTAMP:20260425T152251
CREATED:20260414T174721Z
LAST-MODIFIED:20260414T174721Z
UID:9624-1782432000-1782518399@www.aref.gob.ar
SUMMARY:SIRCREB/SIRCUPA Agentes de Recaudación - VENCIMIENTO PRESENTACION y PAGO DDJJ 2da DECENA Junio
DESCRIPTION:
URL:https://www.aref.gob.ar/calendario/sircreb-sircupa-agentes-de-recaudacion-vencimiento-presentacion-y-pago-ddjj-2da-decena-junio/
CATEGORIES:Sircreb - Sircar - Sirtac
END:VEVENT
BEGIN:VEVENT
DTSTART;VALUE=DATE:20260630
DTEND;VALUE=DATE:20260701
DTSTAMP:20260425T152251
CREATED:20260409T145047Z
LAST-MODIFIED:20260409T145047Z
UID:9551-1782777600-1782863999@www.aref.gob.ar
SUMMARY:SIFERE - VENCIMIENTO DDJJ ANUAL PERIODO FISCAL 2025 (CM05) - Díg. Verif. Cuit 0 a 9
DESCRIPTION:
URL:https://www.aref.gob.ar/calendario/sifere-vencimiento-ddjj-anual-periodo-fiscal-2025-cm05-dig-verif-cuit-0-a-9/
CATEGORIES:Convenio Multilateral
END:VEVENT
BEGIN:VEVENT
DTSTART;VALUE=DATE:20260706
DTEND;VALUE=DATE:20260707
DTSTAMP:20260425T152251
CREATED:20260417T170657Z
LAST-MODIFIED:20260417T170657Z
UID:9639-1783296000-1783382399@www.aref.gob.ar
SUMMARY:Tasa de Verificación de Procesos Productivos (Formulario NT-500 (v.2024) ) DDJJ mensual Junio PRESENTACION Y PAGO
DESCRIPTION:
URL:https://www.aref.gob.ar/calendario/tasa-de-verificacion-de-procesos-productivos-formulario-nt-500-v-2024-ddjj-mensual-junio-presentacion-y-pago/
CATEGORIES:Tasa De Verificación de Procesos Productivos
END:VEVENT
BEGIN:VEVENT
DTSTART;VALUE=DATE:20260707
DTEND;VALUE=DATE:20260708
DTSTAMP:20260425T152251
CREATED:20260417T170847Z
LAST-MODIFIED:20260417T170847Z
UID:9641-1783382400-1783468799@www.aref.gob.ar
SUMMARY:Sellos – Agentes de Recaudación – PRESENTACIÓN/PAGO DDJJ (101-210-220-230-250) DDJJ mensual Junio
DESCRIPTION:
URL:https://www.aref.gob.ar/calendario/sellos-agentes-de-recaudacion-presentacion-pago-ddjj-101-210-220-230-250-ddjj-mensual-junio/
CATEGORIES:Agentes de Recaudación - Impuesto de Sellos
END:VEVENT
END:VCALENDAR